BEGIN:VCALENDAR
VERSION:2.0
PRODID:GlueUp
CALSCALE:GREGORIAN
BEGIN:VTIMEZONE
TZID:UTC
BEGIN:STANDARD
DTSTART:19700101T000000
TZOFFSETFROM:+0000
TZOFFSETTO:+0000
TZNAME:UTC
END:STANDARD
END:VTIMEZONE
BEGIN:VEVENT
TZ:+00
ORGANIZER;CN=Carol Liu:MAILTO:carol.liu@glueup.com
UID:28495-1776858022@https://cebex.glueup.cn
DTSTAMP:20260422T114022Z
DTSTART:20200908T050000Z
DTEND:20200909T060000Z
SUMMARY:Thomas Test1
DESCRIPTION:Glue Up发布活动Thomas Test1\n\n2020年09月08日，2020年09月09日(GMT+8)\n\n欲了解更多信息并参加在线活动，请点击此处：\n\n活动网站： https://cebex.glueup.cn/my/events/28495\n\n活动链接： https://www.testurl.com
LOCATION:https://www.testurl.com
BEGIN:VALARM
TRIGGER:-PT1H
REPEAT:4
DURATION:PT15M
ACTION:DISPLAY
END:VALARM
END:VEVENT
END:VCALENDAR