BEGIN:VCALENDAR
VERSION:2.0
PRODID:GlueUp
CALSCALE:GREGORIAN
BEGIN:VTIMEZONE
TZID:UTC
BEGIN:STANDARD
DTSTART:19700101T000000
TZOFFSETFROM:+0000
TZOFFSETTO:+0000
TZNAME:UTC
END:STANDARD
END:VTIMEZONE
BEGIN:VEVENT
TZ:+00
ORGANIZER;CN=Suri Chen:MAILTO:suri.vc@outlook.com
UID:29885-1776727536@https://cebex.glueup.cn
DTSTAMP:20260420T232536Z
DTSTART:20201223T000000Z
DTEND:20201223T140000Z
SUMMARY:培训-CAROL
DESCRIPTION:Glue Up发布活动培训-CAROL\n\n2020年12月23日\n上午 8:00 - 晚上 10:00(GMT+8)\n\n欲了解更多信息并参加在线活动，请点击此处：\n\n活动网站： https://cebex.glueup.cn/my/events/29885\n\n活动链接： https://meeting.tencent.com/s/eQwAYPg1w4Hv
LOCATION:https://meeting.tencent.com/s/eQwAYPg1w4Hv
BEGIN:VALARM
TRIGGER:-PT1H
REPEAT:4
DURATION:PT15M
ACTION:DISPLAY
END:VALARM
END:VEVENT
END:VCALENDAR