BEGIN:VCALENDAR
VERSION:2.0
PRODID:GlueUp
CALSCALE:GREGORIAN
BEGIN:VTIMEZONE
TZID:UTC
BEGIN:STANDARD
DTSTART:19700101T000000
TZOFFSETFROM:+0000
TZOFFSETTO:+0000
TZNAME:UTC
END:STANDARD
END:VTIMEZONE
BEGIN:VEVENT
TZ:+00
ORGANIZER;CN=Bruce王:MAILTO:bruce.wang@eventbank.com
UID:30042-1776937116@https://cebex.glueup.cn
DTSTAMP:20260423T093836Z
DTSTART:20210111T000000Z
DTEND:20210111T100000Z
SUMMARY:培训-CAROL
DESCRIPTION:培训-CAROL by Glue Up\n\nJan 11, 2021 (08:00 - 18:00)(GMT+8)\n\nFor more information, click here: https://cebex.glueup.cn/my/events/30042
LOCATION:国贸酒店 - 北京 - China
BEGIN:VALARM
TRIGGER:-PT48H
REPEAT:4
DURATION:PT30M
ACTION:DISPLAY
END:VALARM
END:VEVENT
END:VCALENDAR